BEGIN:VCALENDAR
VERSION:2.0
PRODID:icalendar-ruby
CALSCALE:GREGORIAN
X-WR-TIMEZONE:Europe/Helsinki
BEGIN:VTIMEZONE
TZID:Europe/Helsinki
BEGIN:DAYLIGHT
DTSTART:20260329T040000
TZOFFSETFROM:+0200
TZOFFSETTO:+0300
RRULE:FREQ=YEARLY;BYDAY=-1SU;BYMONTH=3
TZNAME:EEST
END:DAYLIGHT
BEGIN:STANDARD
DTSTART:20261025T030000
TZOFFSETFROM:+0300
TZOFFSETTO:+0200
RRULE:FREQ=YEARLY;BYDAY=-1SU;BYMONTH=10
TZNAME:EET
END:STANDARD
END:VTIMEZONE
BEGIN:VEVENT
DTSTAMP:20260420T172740
UID:dreamteamcheer.myclub.fi-10585224
DTSTART;TZID=Europe/Helsinki:20260603T090000
DTEND;TZID=Europe/Helsinki:20260605T150000
DESCRIPTION:Leiri on suunnattu kaikille 7-13-vuotiaille lapsille ja nuorill
 e. Leirillä liikutaan ja leikitään rennoissa tunnelmissa harjoitellen e
 rilaisia liikuntataitoja ja -lajeja ulkona ja sisällä. Leirillä keskity
 tään hauskanpitoon\, leikkeihin ja monipuoliseen liikuntaan leirin osall
 istujen ikä- ja liikuntataitotaso huomioiden. Leirillä kokeillaan ja har
 joitellaan myös cheerleadingia ja cheertanssia. Ulkoiluissa hyödynnämme
  Kaupin upeita ulkoliikuntaympäristöjä\, ja jokaiseen leiripäivään k
 uuluu leirimaksuun sisältyvä lounas Kaupin lounasravintolassa. Leiri pä
 ättyy loppuhuipennukseen hyppyvuorolla Trampolin Park Wildissa!\nLeiripä
 ivän kulku: Leiripäivät alkavat ja päättyvät yhteisellä kokoontumis
 ella seuran pukuhuonetiloissa Kaupin alakerrasta. Koska leirillä myös ul
 koillaan (säävarauksella)\, varaattehan ulkoiluun sopivat varusteet muka
 an kaikkina leiripäivinä. Leirille otetaan mukaan lajiin soveltuvat liik
 unnalliset varusteet\, sisäpeli-/cheerkengät ja juomapullo. Pitkät hiuk
 set laitetaan kiinni ja korut poistetaan ennen leiripäivän alkua.\nLeiri
 n hinta on 130e ja leirimaksun tulisi olla maksettuna leirille tultaessa. 
 Leiri toteutuu\,\, mikäli osallistujia on yli 10. Mikäli leiri peruuntuu
 \, tulee siitä tieto spostitse toukokuun loppuun mennessä ja mahdollinen
  leirimaksu palautetaan. Leiriläisiä ei ole vakuutettu DTC:n puolesta. O
 sallistuminen edellyttää osallistujan omaa tapaturmavakuutusta. DTC pid
 ättää oikeudet muutoksiin.\nLeiritoiminnasta seuralla vastaa Nita Kivim
 äki. Mikäli kysymyksiä leiristä herää\, voitte olla häneen yhteydes
 sä spostilla leirit@dreamteamcheer.fi.\n\nhttps://dreamteamcheer.myclub.f
 i/flow/events/10585224
LOCATION:Kauppi Sports Center\, Kuntokatu 17\, 33520 Tampere
SEQUENCE:0
SUMMARY:Dream Team Cheerleaders DTC ry: 2026 Active Cheer liikuntaleiri 3.-
 5.6. 
URL;VALUE=URI:https://dreamteamcheer.myclub.fi/flow/events/10585224
END:VEVENT
END:VCALENDAR
